BEGIN:VCALENDAR
VERSION:2.0
PRODID:-//wp-events-plugin.com//7.2.3.1//EN
TZID:Europe/Berlin
X-WR-TIMEZONE:Europe/Berlin
BEGIN:VEVENT
UID:111@berlin030.de
DTSTART;TZID=Europe/Berlin:20250521T193000
DTEND;TZID=Europe/Berlin:20250521T193000
DTSTAMP:20241220T112043Z
URL:https://berlin030.de/events/year-without-summer-at-apokalyptische-visi
 onen-von-florentina-holzinger/
SUMMARY:Year without summer (AT): Apokalyptische Visionen von Florentina Ho
 lzinger
DESCRIPTION:Am 21. Mai 2025 feiert Florentina Holzingers neueste Arbeit Yea
 r without summer (AT) ihre Uraufführung an der Volksbühne. Das Stück is
 t inspiriert vom Jahr 1816\, in dem Mary Shelley ihren „Frankenstein“ 
 schrieb\, und thematisiert die Beziehung zwischen Mensch\, Natur und küns
 tlichem Leben.\nDie Handlung: Der Körper als Experimentierfeld\nHolzinger
  wirft einen radikalen Blick auf den Körper als Ort des Experiments. Zwis
 chen apokalyptischen Klimaveränderungen und der Suche nach ewigem Leben h
 interfragt das Stück\, wie weit die Menschheit gehen kann\, um die Natur 
 zu beherrschen.\nKurzinfo:\nPremiere: 21. Mai 2025\, 19:30 Uhr\nVorverkauf
 sstart: 01. April 2025\, 11:00 Uhr\nOrt: Große Bühne\, Volksbühne Berli
 n
CATEGORIES:Kultur,Theater
LOCATION:Volksbühne am Rosa-Luxemburg-Platz\, Rosa-Luxemburg-Platz\, Berli
 n\, 10178\, Deutschland
X-APPLE-STRUCTURED-LOCATION;VALUE=URI;X-ADDRESS=Rosa-Luxemburg-Platz\, Berl
 in\, 10178\, Deutschland;X-APPLE-RADIUS=100;X-TITLE=Volksbühne am Rosa-Lu
 xemburg-Platz:geo:0,0
END:VEVENT
BEGIN:VTIMEZONE
TZID:Europe/Berlin
X-LIC-LOCATION:Europe/Berlin
BEGIN:DAYLIGHT
DTSTART:20250330T030000
TZOFFSETFROM:+0100
TZOFFSETTO:+0200
TZNAME:CEST
END:DAYLIGHT
END:VTIMEZONE
END:VCALENDAR