BEGIN:VCALENDAR
VERSION:2.0
PRODID:-//wp-events-plugin.com//7.2.3.1//EN
TZID:Europe/Berlin
X-WR-TIMEZONE:Europe/Berlin
BEGIN:VEVENT
UID:109@berlin030.de
DTSTART;TZID=Europe/Berlin:20250214T193000
DTEND;TZID=Europe/Berlin:20250214T193000
DTSTAMP:20241220T112505Z
URL:https://berlin030.de/events/weisse-witwe-erotisches-abenteuer-in-einer
 -dystopischen-zukunft/
SUMMARY:Weiße Witwe: Erotisches Abenteuer in einer dystopischen Zukunft
DESCRIPTION:Am 14. Februar 2025 feiert Weiße Witwe\, das Theaterdebüt der
  Filmregisseurin Kurdwin Ayub\, seine Premiere an der Volksbühne. Mit ein
 er Mischung aus Erotik\, Fantasie und Gesellschaftskritik entführt das St
 ück die Zuschauer in das Jahr 2666\, in dem Königin Aliah über den isla
 mischen Staat Europa regiert.\nDie Handlung: Geschichten wie aus Tausendun
 deiner Nacht\nKönigin Aliah\, verkörpert von der Berliner Rapperin addeN
 \, lebt ein dekadentes Leben: Jede Nacht befriedigt sie ihre Lust mit eine
 m neuen weißen Mann\, den sie am Morgen hinrichten lässt. Als ein alter 
 Mann aus den deutschsprachigen Gebieten ihr freiwillig eine Geschichte erz
 ählt\, wird sie mit einer neuen Perspektive konfrontiert. Die Geschichten
 \, die an die legendäre Scheherazade aus Tausendundeiner Nacht erinnern\,
  verbinden Erotik mit Machtspielen und setzen die Königin auf eine Reise 
 zu sich selbst.\nEinführung in die Inszenierung\nMit ihrer Choreografie u
 nd den präzise entworfenen Bühnenbildern schafft Kurdwin Ayub eine sinnl
 iche\, provokante Welt\, in der Lust und Tod miteinander verschmelzen. Das
  Stück hebt sich durch seine einzigartige Ästhetik hervor und verbindet 
 Tanz\, Theater und visuelle Kunst.\nKurzinfo:\nPremiere: 14. Februar 2025\
 , 19:30 Uhr\nVorverkaufsstart: 02. Januar 2025\, 11:00 Uhr\nOrt: Große B
 ühne\, Volksbühne Berlin\n 
ATTACH;FMTTYPE=image/jpeg:https://berlin030.de/wp-content/uploads/2024/12/
 Weisse-Witwe-Georg-Friedrich-addeN©Bahar-Kaygususz-scaled.jpg
CATEGORIES:Kultur,Theater
LOCATION:Volksbühne am Rosa-Luxemburg-Platz\, Rosa-Luxemburg-Platz\, Berli
 n\, 10178\, Deutschland
X-APPLE-STRUCTURED-LOCATION;VALUE=URI;X-ADDRESS=Rosa-Luxemburg-Platz\, Berl
 in\, 10178\, Deutschland;X-APPLE-RADIUS=100;X-TITLE=Volksbühne am Rosa-Lu
 xemburg-Platz:geo:0,0
END:VEVENT
BEGIN:VTIMEZONE
TZID:Europe/Berlin
X-LIC-LOCATION:Europe/Berlin
BEGIN:STANDARD
DTSTART:20241027T020000
TZOFFSETFROM:+0200
TZOFFSETTO:+0100
TZNAME:CET
END:STANDARD
END:VTIMEZONE
END:VCALENDAR