BEGIN:VCALENDAR
VERSION:2.0
PRODID:-//wp-events-plugin.com//7.2.3.1//EN
TZID:Europe/Berlin
X-WR-TIMEZONE:Europe/Berlin
BEGIN:VEVENT
UID:127@berlin030.de
DTSTART;TZID=Europe/Berlin:20250119T200000
DTEND;TZID=Europe/Berlin:20250119T200000
DTSTAMP:20250109T170015Z
URL:https://berlin030.de/events/the-memorials-komplexe-rhythmen-treffen-au
 f-eingaengige-melodien/
SUMMARY:The Memorials | Komplexe Rhythmen treffen auf eingängige Melodien
DESCRIPTION:The Memorials wurden im Dezember 2009 in Berkeley\, Kalifornien
 \, von Thomas Pridgen\, dem ehemaligen Schlagzeuger der Mars Volta\, gegr
 ündet. Gemeinsam mit der charismatischen Sängerin Viveca Hawkins und dem
  Gitarristen Nick Brewer schuf Pridgen eine Band\, die für ihre kraftvoll
 en Live-Auftritte und ihre genreübergreifende Musik bekannt ist. Ihr selb
 stbetiteltes Debütalbum “The Memorials” erschien am 14. Februar 2011 
 und wurde in der Musikszene für seine Vielseitigkeit und technische Brill
 anz gelobt. Songs wie “We Go to War” und “Natural Selection” zeige
 n die Fähigkeit der Band\, komplexe Rhythmen mit eingängigen Melodien zu
  verbinden. Um das Album zu promoten\, unternahmen sie 2011 eine 31-tägig
 e US-Tour\, die größtenteils von ihren Fans unterstützt wurde Im Juni 2
 012 folgte ihr zweites Album “Delirium”\, das die Band weiter in exper
 imentelle Klangwelten führte. Der Track “Fluorescents Unforgiving”\, 
 der im November 2011 über SoundCloud veröffentlicht wurde\, gibt einen E
 inblick in die Weiterentwicklung ihres Sounds. Nach mehreren Tourneen durc
 h die USA bereiteten sich The Memorials 2012 auf eine Europatournee vor\, 
 die ihre internationale Präsenz stärkte. Live begeistert die Kombination
  aus Pridgens beeindruckendem Schlagzeugspiel\, Hawkins’ kraftvoller Sti
 mme und Brewers virtuosem Gitarrenspiel. Tickets im Voraus zu sichern\, sc
 heint in diesem Fall\, keine schlechte Idee.\nHier ein Vorgeschmack auf Th
 e Memorials mit ihrem Song “We Go to War”:\nhttps://www.youtube.com/wa
 tch?v=lKWjAlSYHXs
ATTACH;FMTTYPE=image/jpeg:https://berlin030.de/wp-content/uploads/2025/01/
 The_Memorials.jpg
CATEGORIES:Konzerte
LOCATION:Kantine am Berghain\, Am Wriezener Bahnhof\, Berlin\, 10243\, Deut
 schland
X-APPLE-STRUCTURED-LOCATION;VALUE=URI;X-ADDRESS=Am Wriezener Bahnhof\, Berl
 in\, 10243\, Deutschland;X-APPLE-RADIUS=100;X-TITLE=Kantine am Berghain:ge
 o:0,0
END:VEVENT
BEGIN:VTIMEZONE
TZID:Europe/Berlin
X-LIC-LOCATION:Europe/Berlin
BEGIN:STANDARD
DTSTART:20241027T020000
TZOFFSETFROM:+0200
TZOFFSETTO:+0100
TZNAME:CET
END:STANDARD
END:VTIMEZONE
END:VCALENDAR