BEGIN:VCALENDAR
VERSION:2.0
PRODID:-//wp-events-plugin.com//7.2.3.1//EN
TZID:Europe/Berlin
X-WR-TIMEZONE:Europe/Berlin
BEGIN:VEVENT
UID:132@berlin030.de
DTSTART;TZID=Europe/Berlin:20250316T190000
DTEND;TZID=Europe/Berlin:20250316T234500
DTSTAMP:20250204T102154Z
URL:https://berlin030.de/events/the-dead-daisies/
SUMMARY:The Dead Daisies
DESCRIPTION:Mit großer Vorfreude kündigen The Dead Daisies für März 202
 5 ihre ersten Europa-Shows des neuen Jahres an. Die auf insgesamt fünf L
 änder verteilten Konzerte setzen die äußerst erfolgreichen “Light 'Em
  Up“ Tourneen der Saison 2024 fort und werden von den englischen Retro-R
 ockern The Treatment begleitet\, die für ihre Teilnahme an den UK-Dates d
 er Daisies im vergangenen September großartige Kritiken bekommen haben.\n
 Gitarrist Doug Aldrich ist zu The Dead Daisies zurückgekehrt\, er zeigt s
 ich topfit und wildentschlossen\, mit seinen Bandkollegen John Corabi\, Da
 vid Lowy\, Michael Devin und Tommy Clufetos wieder die Bühnen zu rocken!\
 n\n„Hallo Leute\, ich hoffe euch allen geht es gut\, wo immer ihr gerade
  seid. Die Termine für die Europatour 2025 rücken näher und ich kann es
  kaum erwarten\, wieder für euch zu spielen. Weitere Shows folgen\, und e
 gal\, wo wir uns sehen\, wir werden fantastisch abliefern und garantiert a
 llen Fans einen tollen Abend bescheren. Also nichts wie auf ins Jahr 2025\
 , los geht`s!“ – Doug Aldrich\n\nDie Band arbeitet derzeit an weiteren
  Gigs für das Jahr 2025\, deshalb: Augen auf\, die März-Tour ist nur der
  Auftakt!\nAußerdem werden The Dead Daisies Mitte 2025 ihr neues Blues-Al
 bum veröffentlichen und damit zweifellos für weitere Aufmerksamkeit sorg
 en. Um die kommenden Gigs zusätzlich aufzupeppen\, werden einige Songs de
 r Scheibe bereits in der aktuellen Setlist zu finden sein!
ATTACH;FMTTYPE=image/jpeg:https://berlin030.de/wp-content/uploads/2025/02/
 THE_DEAD_DAISIES_1_500.jpg
CATEGORIES:Konzerte
LOCATION:SO36\, Oranienstrasse 190\, Berlin\, 10999\, Deutschland
X-APPLE-STRUCTURED-LOCATION;VALUE=URI;X-ADDRESS=Oranienstrasse 190\, Berlin
 \, 10999\, Deutschland;X-APPLE-RADIUS=100;X-TITLE=SO36:geo:0,0
END:VEVENT
BEGIN:VTIMEZONE
TZID:Europe/Berlin
X-LIC-LOCATION:Europe/Berlin
BEGIN:STANDARD
DTSTART:20241027T020000
TZOFFSETFROM:+0200
TZOFFSETTO:+0100
TZNAME:CET
END:STANDARD
END:VTIMEZONE
END:VCALENDAR