BEGIN:VCALENDAR
VERSION:2.0
PRODID:-//wp-events-plugin.com//7.2.3.1//EN
TZID:Europe/Berlin
X-WR-TIMEZONE:Europe/Berlin
BEGIN:VEVENT
UID:59@berlin030.de
DTSTART;TZID=Europe/Berlin:20241209T200000
DTEND;TZID=Europe/Berlin:20241209T230000
DTSTAMP:20241124T115107Z
URL:https://berlin030.de/events/sylvie-kreusch-gretchen/
SUMMARY:Sylvie Kreusch | Gretchen
DESCRIPTION:Sylvie Kreuschs neues Album "Comic Trip" (2024) setzt ein eindr
 ucksvolles Statement als popkulturelles Kunstwerk\, das musikalische und v
 isuelle Grenzen sprengt. Das Album\, veröffentlicht unter Sony Music Ente
 rtainment\, zeigt die belgische Musikerin in einer neuen Phase ihrer küns
 tlerischen Entwicklung\, wobei sie sich von ihrer „mysteriösen Diva“-
 Persona\, welche sie auf dem Vorgänger "Montbray"(2021) noch pflegte\, en
 tfernt und ihre verletzliche Seite offenbart. Thematisch oszilliert das ak
 tuelle Werk zwischen jugendlicher Verspieltheit\, autobiografischen Reflex
 ionen und kritischen Auseinandersetzungen mit gesellschaftlichen Erwartung
 en an Frauen. Mit ihrer Single „Butterfly“ setzt sie sich kritisch mit
  Schönheitsidealen und Perfektionismus auseinander. Kreusch thematisiert 
 die Unsicherheiten\, die durch den Druck der Selbstoptimierung und die Ide
 alisierung von Jugend ausgelöst werden. Es ist ein Statement für Selbsta
 kzeptanz und gegen den Zwang zur Anpassung. Der Song „Ride Away“ wiede
 rum erzählt die Geschichte einer Frau\, die durch das Setzen von Grenzen 
 ihre Selbstachtung wiederfindet – ein poetisches Bild für emotionalen M
 ut und Unabhängigkeit. Eine emotionale Auseinandersetzung mit Zukunftsän
 gsten und existenziellen Fragen\, eingebettet in cineastische Klanglandsch
 aften\, liefert die Musikerin mit dem Track „Final Hour“\, während da
 s melancholische „Sweet Love“ eine persönliche Liebesgeschichte\, gep
 rägt von Angst und Zuneigung\, erzählt. Experimentelle Arrangements\, ci
 neastische Klangbilder und eine vielseitige Stimmperformance aus. So könn
 te man "Comic Trip" zusammenfassen. Eine Platte\, die thematischen Tiefgan
 g und die Fähigkeit\, intime Momente zu erzeugen\, mit universellen Frage
 n verbindet. Ein starkes musikalisches Statement der Belgierin. Live versp
 richt Sylvie Kreusch eine Synthese aus Musik und Performance. Rückblicke 
 auf ihr Erstlingswerk sind dabei nicht ausgeschlossen.\n\nFoto: Sony Music
  Entertainment
ATTACH;FMTTYPE=image/jpeg:https://berlin030.de/wp-content/uploads/2024/11/
 Sylvie-Kreusch.jpg
CATEGORIES:Konzerte
LOCATION:Gretchen\, Obentrautstraße 19-21\, Berlin\, 10963\, Deutschland
X-APPLE-STRUCTURED-LOCATION;VALUE=URI;X-ADDRESS=Obentrautstraße 19-21\, Be
 rlin\, 10963\, Deutschland;X-APPLE-RADIUS=100;X-TITLE=Gretchen:geo:0,0
END:VEVENT
BEGIN:VTIMEZONE
TZID:Europe/Berlin
X-LIC-LOCATION:Europe/Berlin
BEGIN:STANDARD
DTSTART:20241027T020000
TZOFFSETFROM:+0200
TZOFFSETTO:+0100
TZNAME:CET
END:STANDARD
END:VTIMEZONE
END:VCALENDAR