BEGIN:VCALENDAR
VERSION:2.0
PRODID:-//wp-events-plugin.com//7.2.3.1//EN
TZID:Europe/Berlin
X-WR-TIMEZONE:Europe/Berlin
BEGIN:VEVENT
UID:166@berlin030.de
DTSTART;TZID=Europe/Berlin:20250704T200000
DTEND;TZID=Europe/Berlin:20250704T235900
DTSTAMP:20250525T120124Z
URL:https://berlin030.de/events/shapes-of-us-3-0-by-the-code-at-dark-matte
 r/
SUMMARY:SHAPES OF US 3.0 by THE CODE at DARK MATTER
DESCRIPTION:Shapes move\, shift\, morph and come together. On dance-floors\
 , in scenes and subcultures\, people mix\, states change and new shapes fo
 rm. Part fashion show\, part party\, we’ll celebrate Berlin’s fluidity
  of movement and thought with a tour through scenes\, sounds and states.\n
 Fashion show meets the dance floor\, performances cut through stillness\, 
 and identities flow without borders. All set within the pulse and tension 
 of SKALAR\, the monumental light installation that watches and responds.\n
 Crafting sounds as fluid and fierce as the forms in motion\, Laure Croft\,
  machìna and Marie Montexier shape a journey through shifting states and 
 scenes. The runway becomes a space of fluid identities\, accompanied by th
 e Velvet Creepers — a queer circus and cabaret that blends vintage glamo
 ur with a unique surreal aesthetics and promote body positivity\, queer vi
 sibility and empowerment.\nWe are the Shapes of Us.
CATEGORIES:Ausstellungen,Partys
LOCATION:https://www.darkmatter.berlin/shapes-of-us-3
END:VEVENT
BEGIN:VTIMEZONE
TZID:Europe/Berlin
X-LIC-LOCATION:Europe/Berlin
BEGIN:DAYLIGHT
DTSTART:20250330T030000
TZOFFSETFROM:+0100
TZOFFSETTO:+0200
TZNAME:CEST
END:DAYLIGHT
END:VTIMEZONE
END:VCALENDAR