BEGIN:VCALENDAR
VERSION:2.0
PRODID:-//wp-events-plugin.com//7.2.3.1//EN
TZID:Europe/Berlin
X-WR-TIMEZONE:Europe/Berlin
BEGIN:VEVENT
UID:128@berlin030.de
DTSTART;TZID=Europe/Berlin:20250119T200000
DTEND;TZID=Europe/Berlin:20250119T200000
DTSTAMP:20250109T172111Z
URL:https://berlin030.de/events/memorials-analoge-klangaesthetik-zwischen-
 hypnotischem-avant-pop-und-kaleidoskopischen-klangtexturen/
SUMMARY:Memorials | Analoge Klangästhetik zwischen hypnotischem Avant-Pop 
 und kaleidoskopischen Klangtexturen
DESCRIPTION:Das britische Duo Memorials\, bestehend aus Verity Susman und M
 atthew Simms\, erkundet in seinem neuen Projekt die Möglichkeiten gemeins
 amer Kreativität und analoger Klangästhetik. In einem Gespräch erinnert
  sich Susman an die erste Diskussion über die Gründung von Memorials: 
 „Wir dachten\, dass wir uns gut ergänzen.“ Sie lacht\, als sie die Fo
 rmulierung „komplementäre Fähigkeiten“ verwendet und scherzt\, dass 
 es eher nach einem Bürojargon klingt. Doch letztendlich sei es ein Prozes
 s\, bei dem man erst beim tatsächlichen Arbeiten herausfindet\, ob die Ch
 emie stimmt. Beide Musiker bringen reichlich Erfahrung aus vorherigen Proj
 ekten mit. Susman war Gründungsmitglied der einflussreichen Band Electrel
 ane\, während Simms seit 2010 Gitarrist der legendären britischen Post-P
 unk-Band Wire ist. Ihr gemeinsames Projekt Memorials schlägt jedoch eine 
 ganz andere Richtung ein: Ihr Sound bewegt sich zwischen hypnotischem Avan
 t-Pop\, kaleidoskopischen Klangtexturen und einer experimentellen Ästheti
 k\, die an Bands wie Broadcast und Stereolab erinnert – mit einem ganz e
 igenen\, rebellischen Geist.\n\nhttps://www.youtube.com/watch?v=wMPIf8OCTY
 o
ATTACH;FMTTYPE=image/jpeg:https://berlin030.de/wp-content/uploads/2025/01/
 memorials.jpeg
CATEGORIES:Konzerte
LOCATION:Kantine am Berghain\, Am Wriezener Bahnhof\, Berlin\, 10243\, Deut
 schland
X-APPLE-STRUCTURED-LOCATION;VALUE=URI;X-ADDRESS=Am Wriezener Bahnhof\, Berl
 in\, 10243\, Deutschland;X-APPLE-RADIUS=100;X-TITLE=Kantine am Berghain:ge
 o:0,0
END:VEVENT
BEGIN:VTIMEZONE
TZID:Europe/Berlin
X-LIC-LOCATION:Europe/Berlin
BEGIN:STANDARD
DTSTART:20241027T020000
TZOFFSETFROM:+0200
TZOFFSETTO:+0100
TZNAME:CET
END:STANDARD
END:VTIMEZONE
END:VCALENDAR