BEGIN:VCALENDAR
VERSION:2.0
PRODID:-//wp-events-plugin.com//7.2.3.1//EN
TZID:Europe/Berlin
X-WR-TIMEZONE:Europe/Berlin
BEGIN:VEVENT
UID:129@berlin030.de
DTSTART;TZID=Europe/Berlin:20250120T190000
DTEND;TZID=Europe/Berlin:20250120T190000
DTSTAMP:20250109T173048Z
URL:https://berlin030.de/events/jpegmafia-experimenteller-mainstream/
SUMMARY:JPEGMafia | Experimenteller Mainstream
DESCRIPTION:JPEGMAFIA\, bürgerlich Barrington DeVaughn Hendricks\, stet im
  Rahmen seiner “Lay Down My Life Tour” auf der Bühne des Huxleys Neue
 r Welt. Geboren am 22. Oktober 1989 in New York City\, wuchs Hendricks in 
 Brooklyn auf und verbrachte Teile seiner Jugend in Alabama. Seine musikali
 sche Karriere begann er unter dem Namen Devon Hendryx\, bevor er sich als 
 JPEGMAFIA einen Namen machte. Sein Stil zeichnet sich durch experimentelle
 n Hip-Hop mit Einflüssen aus Industrial und Avantgarde aus\, wobei er oft
  kontroverse Themen wie politische Missstände und soziale Ungerechtigkeit
 en behandelt. Sein Debütalbum “Black Ben Carson” veröffentlichte er 
 2016\, gefolgt von “Veteran” im Jahr 2018\, das ihm breite Anerkennung
  in der Musikszene einbrachte. Mit “All My Heroes Are Cornballs” (2019
 ) und “LP!” (2021) festigte er seinen Ruf als innovativer Künstler. 2
 023 kollaborierte er mit dem Rapper Danny Brown für das Album “Scaring 
 the Hoes”. Sein neuestes Werk\, “I Lay Down My Life for You”\, ersch
 ien 2024 und wird im Mittelpunkt der kommenden Tour stehen. Für Fans des 
 experimentellen Hip-Hop und alle\, die einen unvergesslichen Abend mit inn
 ovativer Musik erleben möchten\, ist dieses Konzert ein absolutes Muss. T
 ickets können über Eventim erworben werden.\nhttps://www.youtube.com/wat
 ch?v=SpH83KzVKDc
ATTACH;FMTTYPE=image/jpeg:https://berlin030.de/wp-content/uploads/2020/03/
 JPEGMAFIA_1_by_EQT_Recordings.jpg
CATEGORIES:Konzerte
LOCATION:Huxley's Neue Welt\, Hasenheide 107\, Berlin\, 10967\, Deutschland
X-APPLE-STRUCTURED-LOCATION;VALUE=URI;X-ADDRESS=Hasenheide 107\, Berlin\, 1
 0967\, Deutschland;X-APPLE-RADIUS=100;X-TITLE=Huxley's Neue Welt:geo:0,0
END:VEVENT
BEGIN:VTIMEZONE
TZID:Europe/Berlin
X-LIC-LOCATION:Europe/Berlin
BEGIN:STANDARD
DTSTART:20241027T020000
TZOFFSETFROM:+0200
TZOFFSETTO:+0100
TZNAME:CET
END:STANDARD
END:VTIMEZONE
END:VCALENDAR