BEGIN:VCALENDAR
VERSION:2.0
PRODID:-//wp-events-plugin.com//7.2.3.1//EN
TZID:Europe/Berlin
X-WR-TIMEZONE:Europe/Berlin
BEGIN:VEVENT
UID:133@berlin030.de
DTSTART;TZID=Europe/Berlin:20250201T103000
DTEND;TZID=Europe/Berlin:20250222T150000
DTSTAMP:20250204T132534Z
URL:https://berlin030.de/events/injewels-x-fine-principles-pop-up-berlin-i
 m-februar/
SUMMARY:InJewels × Fine Principles — Pop-Up Berlin im Februar
DESCRIPTION:\nSehr geehrtes 030-Team —\n\nIch freue mich\, Ihnen unsere P
 ressemitteilung zum Berliner Pop-up zusenden zu dürfen. \nGemeinsam mit 
 Stella Owusu von InJewels laden wir — Fine Principles — alle Schmu
 ck- und Designliebhaber:innen ein\, vom 28. Januar bis 22. Februar 2025 in
  der InJewels Galerie unsere Schmuckstücke in einem intimen Ambiente zu
  entdecken. Fine Principles ist ein junges Berliner Label für grafische
 n Facettenschmuck aus transparenter Produktion\, gefertigt in der Goldstad
 t Pforzheim.\nGerne stelle ich Ihnen Bildmaterial sowie weitere Informatio
 nen zur Verfügung. Ich würde mich freuen\, wenn Sie unser Event journali
 stisch begleiten und darüber berichten!\n\n\nDownload Pressekit →\n\n
  \nHerzlichen Dank vorab für Ihre Zeit und Unterstützung!\n\n \n______
 __________\n \n\nInJewels × Fine Principles — Pop-Up Berlin\n \nBerl
 in\, Februar 2025 — Im Rahmen ihres Formats ‚InJewels &amp\; Friends
 ’ lädt die Goldschmiedin Stella Owusu das Schmucklabel Fine Principles 
 in ihre gleichnamige Galerie zu einem besonderen Berliner Pop-Up ein. Eine
 n Monat lang präsentieren die beiden Designerinnen\, wie organische Forme
 n mit facettenreichen Designs harmonieren — und laden dazu ein\, die Sch
 muckstücke hautnah zu erleben. Besucher:innen haben die Möglichkeit\, di
 e beiden Gründerinnen persönlich kennenzulernen\, mehr über ihre Arbeit
 sweise zu erfahren und ihre Kollektionen in einem intimen Setting zu entde
 cken.\n \nDatum\n \nVom 28. Januar bis zum 22. Februar 2025\n \nAdresse
 \n \nInJewels Galerie / 1. Hinterhof\nAnklamer Straße 38\, 10115 Berlin
 –Mitte\n \nÖffnungszeiten\n \nDienstag bis Freitag 10:30 — 15 Uhr\n
 Samstag 12 — 18 Uhr\n \nÜber InJewels &amp\; Gründerin Stella Owusu\n
  \nStella Owusu ist ausgebildete Goldschmiedin mit ghanaisch-deutschen Wu
 rzeln. Ihr Schmuck ist tief verwurzelt in kulturellen Einflüssen und verk
 örpert Eleganz mit Bedeutung. Nach Stationen im Silicon Valley und New Yo
 rk\, wo sie in Schmuckgalerien mit internationalen Designer:innen zusammen
 arbeitete\, gründete sie InJewels\, um Schmuck zu erschaffen\, der nicht
  nur ästhetisch besticht\, sondern auch mit einem bewussten Ansatz gefert
 igt wird. Neben der handwerklichen Fertigung ist ihr besonders die nachhal
 tige und ethische Produktion von Edelmetallen wichtig. Langfristig verfolg
 t sie das Ziel\, eine nachhaltige Schmuckproduktion in Ghana aufzubauen\, 
 um die lokale Wertschöpfung zu fördern.\n \nZusätzlich zu ihrem eigene
 n Label nutzt Stella Owusu ihre Galerie als Co-Retail-Space\, um Schmuckde
 signer:innen eine Plattform zu bieten und kreative Synergien zu ermöglich
 en. Das neue Format InJewels &amp\; Friends ist ein Ausdruck dieser Phil
 osophie — eine Begegnungsstätte für hochwertige\, fair produzierte Sch
 muckkunst und ein wachsendes Netzwerk gleichgesinnter Kreativer.\n \nÜbe
 r Fine Principles\n \nFine Principles ist das von Alexandra Schwarzwald 
 geründete Schmucklabel mit Sitz in Berlin. FP nutzt die ästhetischen Mö
 glichkeiten von Falttechniken\, um facettenreichen Schmuck mit akribischer
  Präzision zu gestalten. Durch das Zusammenspiel durchdachter Prinzipien 
 und zertifizierter Edelmetalle entstehen authentische Designs\, die durch 
 grafische Regelmäßigkeit geprägt sind und aus transparenter Produktion 
 aus Pforzheim stammen.\n\n \nKontakt InJewels\n \n\nStella Owusu\ninfo@i
 n-jewels.com\n\nwww.in-jewels.com\n@in_jewels\n \n\nKontakt Fine Principl
 es\n \n\nAlexandra Schwarzwald\nhello@fineprinciples.com\n\nwww.fineprinc
 iples.com\n@fineprinciples\n\n \n________________\n \n\nBei Rückfragen 
 stehe ich Ihnen jederzeit unter dieser E-Mail-Adresse zur Verfügung.\n\n\
 nHaben Sie weiterhin eine gute Woche!\n \n\nLiebe Grüße aus der InJewel
 s Galerie\,\n\nAlexandra Schwarzwald\n\n\n \n
CATEGORIES:Konzerte
LOCATION:https://fineprinciples.com/de/in-jewels-gallery-2025/
END:VEVENT
BEGIN:VTIMEZONE
TZID:Europe/Berlin
X-LIC-LOCATION:Europe/Berlin
BEGIN:STANDARD
DTSTART:20241027T020000
TZOFFSETFROM:+0200
TZOFFSETTO:+0100
TZNAME:CET
END:STANDARD
END:VTIMEZONE
END:VCALENDAR