BEGIN:VCALENDAR
VERSION:2.0
PRODID:-//wp-events-plugin.com//7.2.3.1//EN
TZID:Europe/Berlin
X-WR-TIMEZONE:Europe/Berlin
BEGIN:VEVENT
UID:113@berlin030.de
DTSTART;TZID=Europe/Berlin:20250207T190000
DTEND;TZID=Europe/Berlin:20250207T190000
DTSTAMP:20241220T112024Z
URL:https://berlin030.de/events/ich-bin-bulgare-eine-humorvolle-suche-nach
 -heimat/
SUMMARY:ICH BIN BULGARE?!: Eine humorvolle Suche nach Heimat
DESCRIPTION:Am 7. Februar 2025 bringt Vidina Popov mit ICH BIN BULGARE?! ei
 ne einzigartige Mischung aus Theater\, Stand-up und Live-Musik auf die Bü
 hne. Die Schauspielerin nimmt das Publikum mit auf eine rasante und bissig
 e Untersuchung des Begriffs „Heimat“. Persönliche Erfahrungen\, dokum
 entarische Elemente und Begegnungen aus Popovs Leben verschmelzen zu einem
  lebendigen Bühnenwerk\, das gängige Klischees und Vorurteile auf humorv
 olle Weise entlarvt. Mit viel Charme und Balkan-Soul wirft sie die Frage a
 uf\, wie Heimat definiert werden kann und welche Herausforderungen mit ihr
 em Verlust verbunden sind. Dabei wird auch der Blick auf die Mechanismen g
 eschärft\, die kulturelle Annahmen und Missverständnisse prägen. Ihre s
 charfzüngigen Kommentare und die musikalischen Einlagen sorgen für eine 
 Dynamik\, die das Publikum gleichzeitig unterhält und zum Nachdenken anre
 gt. Kritiker\, die ihre früheren Arbeiten gesehen haben\, schätzen ihre 
 Fähigkeit\, komplexe Themen mit Humor und Emotionalität zu verbinden. Di
 e One-Woman-Show dürfte zu den spannendsten Premieren des Monats zählen.
 \nSpielzeiten: 7.2. (Premiere) + 8.2. + 18.2.2025\nTickets hier!
CATEGORIES:Kultur,Theater
LOCATION:Heimathafen Neukölln\, Karl-Marx-Str. 141\, Berlin\, 12043\, Deut
 schland
X-APPLE-STRUCTURED-LOCATION;VALUE=URI;X-ADDRESS=Karl-Marx-Str. 141\, Berlin
 \, 12043\, Deutschland;X-APPLE-RADIUS=100;X-TITLE=Heimathafen Neukölln:ge
 o:0,0
END:VEVENT
BEGIN:VTIMEZONE
TZID:Europe/Berlin
X-LIC-LOCATION:Europe/Berlin
BEGIN:STANDARD
DTSTART:20241027T020000
TZOFFSETFROM:+0200
TZOFFSETTO:+0100
TZNAME:CET
END:STANDARD
END:VTIMEZONE
END:VCALENDAR