BEGIN:VCALENDAR
VERSION:2.0
PRODID:-//wp-events-plugin.com//7.2.3.1//EN
TZID:Europe/Berlin
X-WR-TIMEZONE:Europe/Berlin
BEGIN:VEVENT
UID:169@berlin030.de
DTSTART;TZID=Europe/Berlin:20250809T180000
DTEND;TZID=Europe/Berlin:20250809T180000
DTSTAMP:20250630T225249Z
URL:https://berlin030.de/events/herenow-fotobuch-vernissage-im-kitkat-club
 /
SUMMARY:here&amp\;now – Fotobuch-Vernissage im KitKat Club
DESCRIPTION:Der Berliner Fotograf Sahin Dellemann präsentiert sein erstes 
 Fotobuch – ein visuelles Manifest über Freundschaft\, queeres Leben und
  radikale Selbstbestimmung. Zwischen dokumentarischer Direktheit und insze
 nierter Sinnlichkeit zeigt die Ausstellung den Beginn seines fotografische
 n Stils: Glam Realism.\nAm 9. August verwandelt sich der KitKat Club zur B
 ühne für das Projekt: Fine‑Art‑Prints\, Textildrucke\, Catwalk und M
 usik verschmelzen zu einer multimedialen Inszenierung zwischen Ausstellung
 \, Fashion-Intervention und Performance.\nTickets nur im Vorverkauf erhäl
 tlich.
CATEGORIES:Ausstellungen
LOCATION:https://shorturl.at/tAw7O
END:VEVENT
BEGIN:VTIMEZONE
TZID:Europe/Berlin
X-LIC-LOCATION:Europe/Berlin
BEGIN:DAYLIGHT
DTSTART:20250330T030000
TZOFFSETFROM:+0100
TZOFFSETTO:+0200
TZNAME:CEST
END:DAYLIGHT
END:VTIMEZONE
END:VCALENDAR