BEGIN:VCALENDAR
VERSION:2.0
PRODID:-//wp-events-plugin.com//7.2.3.1//EN
TZID:Europe/Berlin
X-WR-TIMEZONE:Europe/Berlin
BEGIN:VEVENT
UID:131@berlin030.de
DTSTART;TZID=Europe/Berlin:20250202T110000
DTEND;TZID=Europe/Berlin:20250202T130000
DTSTAMP:20250129T113907Z
URL:https://berlin030.de/events/fruehstueckstreff-berlin-am-02-02-2025-im-
 cafe-im-bode-museum/
SUMMARY:Frühstückstreff Berlin am 02.02.2025 im Café im Bode-Museum
DESCRIPTION:Frühstückstreff Berlin am 1. Sonntag des Monats\n \nAm Sonnt
 ag\, dem 02.02.2025\, findet in Berlin wieder der \nFrühstückstreff für
  faszinierende Menschen statt. Man trifft \nsich um 11:00 Uhr im Café im 
 Bode-Museum\, Am\nKupfergraben\, in Berlin-Mitte.\n \nDie Teilnehmer des 
 Frühstückstreffs sind junge und jung \ngebliebene\, studierende und beru
 fstätige Frauen und Männer\, \ndie mit anderen faszinierenden Menschen f
 rühstücken und \nsich in netter Gesellschaft angeregt unterhalten möcht
 en.\n \nDie Veranstaltung ist ehrenamtlich organisiert und kostet \ndesha
 lb nichts. Jeder Teilnehmer zahlt nur seine Getränke \nund seinen Verzehr
  selbst. Alle Details der Veranstaltung \nfinden sich im Internet auf der 
 Seite:\n \nwww.berlin.fruehstueckstreff.de\n \nWeitere Termine des Früh
 stückstreffs Berlin\n \nSonntag\, 02.03.2025\, Frühstückstreff im Caf
 é im Bode-Museum \nSonntag\, 06.04.2025\, Frühstückstreff im Café im B
 ode-Museum \nSonntag\, 04.05.2025\, Frühstückstreff im Café im Bode-Mus
 eum
CATEGORIES:Partys
LOCATION:http://www.berlin.fruehstueckstreff.de
END:VEVENT
BEGIN:VTIMEZONE
TZID:Europe/Berlin
X-LIC-LOCATION:Europe/Berlin
BEGIN:STANDARD
DTSTART:20241027T020000
TZOFFSETFROM:+0200
TZOFFSETTO:+0100
TZNAME:CET
END:STANDARD
END:VTIMEZONE
END:VCALENDAR