BEGIN:VCALENDAR
VERSION:2.0
PRODID:-//wp-events-plugin.com//7.2.3.1//EN
TZID:Europe/Berlin
X-WR-TIMEZONE:Europe/Berlin
BEGIN:VEVENT
UID:167@berlin030.de
DTSTART;TZID=Europe/Berlin:20250624T193000
DTEND;TZID=Europe/Berlin:20250624T220000
DTSTAMP:20250603T095329Z
URL:https://berlin030.de/events/fimpro-die-erste-feministische-improgruppe
 -berlins/
SUMMARY:F*impro - die erste feministische Improgruppe Berlin\\\\\\'s
DESCRIPTION:F*impro - die erste feministische Improgruppe Berlin's\nam Dien
 stag den 24. Juni 2025\num 19:30 Uhr\nim Theater Expedition Metropolis\, O
 hlauer Str. 41\, 10999 Berlin\nF*impro Berlin – das sind Caro Erikson un
 d Michi Maxi Schulz\, zwei leidenschaftliche Improspielerinnen mit einer k
 laren Haltung: Feminismus ist intersektional\, kreativ und verdammt unterh
 altsam. Als erste feministische Improgruppe Berlins bringen wir ab Juni mo
 natlich unsere Shows auf die Bühne von Expedition Metropolis. In jeder Sh
 ow laden wir eine Gästin und ein*e Musiker*in ein\, um gemeinsam mit uns 
 einen Abend zu gestalten\, der spontan\, überraschend und radikal ehrlich
  ist. Unsere Improvisationen entstehen live im Dialog mit dem Publikum –
  aus euren Impulsen und Erfahrungen entwickeln wir Szenen.Ob Alltagssexism
 us\, Körperbilder\, Care-Arbeit oder patriarchale Strukturen: Wir verhand
 eln aktuelle Themen mit Humor und Spielfreude. Unsere Shows richten sich a
 n alle Menschen – unabhängig von Geschlecht\, Herkunft oder Erfahrung. 
 F*impro Berlin improvisiert mit Witz\, Tiefe und jeder Menge Empowerment. 
 Jede Show entsteht aus den Inspirationen des Publikums heraus und ist ein 
 Unikat.\nweitere Infos und Tickets unter:eventfrog.de/tickets-fimproberlin
CATEGORIES:Theater
LOCATION:Verschiedene Locations\, Berlin\, Berlin\, Deutschland
X-APPLE-STRUCTURED-LOCATION;VALUE=URI;X-ADDRESS=Berlin\, Berlin\, Deutschla
 nd;X-APPLE-RADIUS=100;X-TITLE=Verschiedene Locations:geo:0,0
END:VEVENT
BEGIN:VTIMEZONE
TZID:Europe/Berlin
X-LIC-LOCATION:Europe/Berlin
BEGIN:DAYLIGHT
DTSTART:20250330T030000
TZOFFSETFROM:+0100
TZOFFSETTO:+0200
TZNAME:CEST
END:DAYLIGHT
END:VTIMEZONE
END:VCALENDAR