BEGIN:VCALENDAR
VERSION:2.0
PRODID:-//wp-events-plugin.com//7.2.3.1//EN
TZID:Europe/Berlin
X-WR-TIMEZONE:Europe/Berlin
BEGIN:VEVENT
UID:112@berlin030.de
DTSTART;TZID=Europe/Berlin:20250207T190000
DTEND;TZID=Europe/Berlin:20250207T190000
DTSTAMP:20241220T112033Z
URL:https://berlin030.de/events/consistent-fantasy-is-reality-eine-musikal
 ische-reise-in-eine-andere-welt/
SUMMARY:CONSISTENT FANTASY IS REALITY: Eine musikalische Reise in eine ande
 re Welt
DESCRIPTION:Am 7. Februar 2025 wird die türkische Sängerin und Aktivistin
  Gaye Su Akyol mit ihrer Premiere CONSISTENT FANTASY IS REALITY die Bühne
  in Neukölln erobern. Die Inszenierung vereint Elemente aus Post-Punk\, G
 runge und anatolischer Volksmusik zu einer glitzernden Space-Opera\, die d
 as Publikum auf eine Reise durch Fantasie und Realität mitnimmt. Akyol is
 t bekannt für ihren unverwechselbaren Stil\, der musikalische Grenzen üb
 erschreitet und gleichzeitig politische Botschaften transportiert. Ihre Ü
 berzeugung\, dass Musik nicht nur träumen\, sondern auch verbinden und ve
 rändern kann\, bildet das Fundament dieser außergewöhnlichen Produktion
 . Die Show erzählt keine lineare Geschichte\, sondern erschafft eine farb
 enfrohe\, psychedelische Welt\, in der Klänge\, Bilder und Bewegungen mit
 einander verschmelzen. Mit der Kombination aus türkischer Klassik und int
 ernationalen Einflüssen entsteht eine Atmosphäre\, die das Publikum glei
 chermaßen inspiriert und nachdenklich stimmt. Kritiker loben Akyols Mut\,
  Tradition und Avantgarde zu vereinen\, während sie gleichzeitig universe
 lle Themen wie Freiheit und Zusammenhalt anspricht. Die Premiere versprich
 t\, ein kulturelles Highlight zu werden\, das weit über die Grenzen der M
 usik hinausgeht.\nTickets &amp\; Spielzeiten findest Du hier.
CATEGORIES:Kultur,Theater
LOCATION:Heimathafen Neukölln\, Karl-Marx-Str. 141\, Berlin\, 12043\, Deut
 schland
X-APPLE-STRUCTURED-LOCATION;VALUE=URI;X-ADDRESS=Karl-Marx-Str. 141\, Berlin
 \, 12043\, Deutschland;X-APPLE-RADIUS=100;X-TITLE=Heimathafen Neukölln:ge
 o:0,0
END:VEVENT
BEGIN:VTIMEZONE
TZID:Europe/Berlin
X-LIC-LOCATION:Europe/Berlin
BEGIN:STANDARD
DTSTART:20241027T020000
TZOFFSETFROM:+0200
TZOFFSETTO:+0100
TZNAME:CET
END:STANDARD
END:VTIMEZONE
END:VCALENDAR