BEGIN:VCALENDAR
VERSION:2.0
PRODID:-//wp-events-plugin.com//7.2.3.1//EN
TZID:Europe/Berlin
X-WR-TIMEZONE:Europe/Berlin
BEGIN:VEVENT
UID:108@berlin030.de
DTSTART;TZID=Europe/Berlin:20250116T193000
DTEND;TZID=Europe/Berlin:20250116T193000
DTSTAMP:20241220T112608Z
URL:https://berlin030.de/events/conni-clyde-queere-identitaeten-und-die-pa
 radoxien-des-lebens/
SUMMARY:Conni & Clyde: Queere Identitäten und die Paradoxien des Lebens
DESCRIPTION:Mit Conni &amp\; Clyde bringt Meo Wulf ab dem 16. Januar 2025 e
 in außergewöhnliches Zweipersonenstück auf die Große Bühne der Volksb
 ühne am Rosa-Luxemburg-Platz. Das Werk\, das Wulf selbst inszeniert und i
 n dem er an der Seite von Christine Groß spielt\, erforscht neue Räume d
 er Queerness im Theater und setzt dabei auf subversive Elemente wie Drag u
 nd alternative Narrative.\nDie Handlung: \nEin Leben zwischen Eskapismus u
 nd Erkenntnis\nConni und Clyde leben in einer heilen Parallelwelt\, in der
  ewige Glückseligkeit ihren Alltag prägt. Doch die scheinbar perfekte Sy
 mbiose zerbricht\, als sie erkennen\, dass ihre Träume und Prioritäten n
 icht mehr übereinstimmen. Während Conni davon träumt\, ein Star zu werd
 en\, verliert sich Clyde in der medialen Dauerkrise. Überfordert von der 
 Welt zieht sich Conni zurück – in den Keller. Doch nach einer Phase der
  Selbstverwirklichung erkennen beide\, dass sie nicht ohne einander könne
 n. Das Stück thematisiert die Paradoxien des Lebens und stellt die Frage 
 nach Selbstbestimmung in einer perspektivlosen Welt. Inspiriert von „Bon
 nie und Clyde“ verweben Conni und Clyde Eskapismus mit einer bewussten A
 useinandersetzung\, die überraschende Wendungen nimmt.\nEinblicke in die 
 Inszenierung\n„Conni &amp\; Clyde“ nutzt Drag als künstlerische Praxi
 s\, um althergebrachte Geschlechterrollen zu dekonstruieren. Bühnenbild u
 nd Kostüme ergänzen die subversiven Themen mit Elementen\, die Tradition
  und Avantgarde verbinden. Besonders die Kostüme von Johannes J. Jaruraak
  („Hungry“) sorgen für visuelle Highlights.\nKurzinfo:\nPremiere: 16.
  Januar 2025\, 19:30 Uhr\nWeitere Vorstellungen: 21. und 30. Januar 2025\n
 Ort: Große Bühne\, Volksbühne Berlin\nTickets: \nAb sofort erhältlich 
 über die Volksbühne-Webseite\n 
ATTACH;FMTTYPE=image/jpeg:https://berlin030.de/wp-content/uploads/2024/12/
 Meo-WulfcPerra-Inmunda1-scaled.jpg
CATEGORIES:Kultur,Theater
LOCATION:Volksbühne am Rosa-Luxemburg-Platz\, Rosa-Luxemburg-Platz\, Berli
 n\, 10178\, Deutschland
X-APPLE-STRUCTURED-LOCATION;VALUE=URI;X-ADDRESS=Rosa-Luxemburg-Platz\, Berl
 in\, 10178\, Deutschland;X-APPLE-RADIUS=100;X-TITLE=Volksbühne am Rosa-Lu
 xemburg-Platz:geo:0,0
END:VEVENT
BEGIN:VTIMEZONE
TZID:Europe/Berlin
X-LIC-LOCATION:Europe/Berlin
BEGIN:STANDARD
DTSTART:20241027T020000
TZOFFSETFROM:+0200
TZOFFSETTO:+0100
TZNAME:CET
END:STANDARD
END:VTIMEZONE
END:VCALENDAR