BEGIN:VCALENDAR
VERSION:2.0
PRODID:-//wp-events-plugin.com//7.2.3.1//EN
TZID:Europe/Berlin
X-WR-TIMEZONE:Europe/Berlin
BEGIN:VEVENT
UID:116@berlin030.de
DTSTART;TZID=Europe/Berlin;VALUE=DATE:20250111
DTEND;TZID=Europe/Berlin;VALUE=DATE:20250113
DTSTAMP:20241220T124214Z
URL:https://berlin030.de/events/cavalluna-grand-moments-europas-fuehrende-
 pferdeshow-auf-tour/
SUMMARY:CAVALLUNA – Grand Moments: Europas führende Pferdeshow auf Tour
DESCRIPTION:Mit ihrer neuen Produktion Grand Moments tourt CAVALLUNA\, Euro
 pas beliebteste Pferdeshow\, zwischen Oktober 2024 und Juni 2025 durch meh
 r als 30 Städte in Deutschland und Europa. Die Show vereint spektakuläre
  Reitkunst\, tänzerische Darbietungen und eine emotionale Geschichte\, di
 e das Publikum auf eine besondere Reise mitnimmt.\nDoch Grand Moments ist 
 mehr als nur eine Show: Sie steht für die Verbindung von Mensch und Tier\
 , für Vertrauen und Respekt – und für ein Erlebnis\, das sich Familien
 \, Pferdeliebhaber und Kulturinteressierte nicht entgehen lassen sollten.\
 nEine berührende Geschichte als Herzstück der Show\nIm Mittelpunkt von G
 rand Moments steht der alternde Clown Trol\, der auf seine Karriere zurüc
 kblickt und alte Freunde sucht\, um mit ihnen die großen Momente seines L
 ebens zu feiern. Begleitet von Visionen\, die ihn durch die emotionalen H
 öhen und Tiefen seines Werdegangs führen\, erlebt er Themen wie Freundsc
 haft\, Liebe und Vergänglichkeit neu. Diese Erzählung bildet den roten F
 aden der Show und verbindet die beeindruckenden Performances der Künstler
  zu einem stimmigen Gesamtwerk. Die Geschichte ist bewusst zurückhaltend 
 inszeniert und bietet Raum für die Darbietungen\, die die Verbindung zwis
 chen Mensch und Pferd auf eindrucksvolle Weise zeigen. Dabei wird auf eine
  Mischung aus emotionalen und spektakulären Momenten gesetzt\, die die Zu
 schauer berühren und faszinieren.\nTradition und Innovation: Das Konzept 
 hinter CAVALLUNA\n\n[caption id="attachment_222267" align="aligncenter" wi
 dth="2560"] Im Mittelpunkt von Grand Moments steht der alternde Clown Trol
 \, der auf seine Karriere zurückblickt und alte Freunde sucht\, um mit ih
 nen die großen Momente seines Lebens zu feiern. - Foto ©: CAVALLUNA[/cap
 tion]\n\nDie Erfolgsgeschichte von CAVALLUNA basiert auf der Verbindung vo
 n traditioneller Reitkunst mit modernen Showelementen. Bereits in frühere
 n Produktionen zeigte die Pferdeshow\, wie vielseitig die Inszenierung von
  Mensch und Tier sein kann. Mit Grand Moments wird dieser Ansatz konsequen
 t fortgesetzt. Die Show vereint verschiedene Disziplinen\, die von klassis
 chen Dressurvorführungen über waghalsige Stunts bis hin zu tänzerischen
  Choreografien und visuellen Effekten reichen.\n\nZu den Höhepunkten geh
 ören die Darbietungen von Diego Giona mit seiner ungarischen Post\, bei d
 er er auf zwei Pferden gleichzeitig steht und weitere Pferde lenkt\, sowie
  die waghalsigen Stunts der Trickreiter der Hasta Luego Academy.\n\nRuhige
 re Momente bieten hingegen die Freiheitsdressuren von Sylvie Willms\, bei 
 denen die Verbindung zwischen Mensch und Pferd besonders deutlich wird. Zu
 sätzliche visuelle Akzente setzen aufwendig inszenierte Szenen mit Wasser
 - und Feuerelementen\, die die Bühne in eine traumhafte Kulisse verwandel
 n.\nTierwohl an erster Stelle: So werden die Pferde umsorgt\nCAVALLUNA leg
 t großen Wert auf das Wohlergehen der rund 60 Pferde\, die an der Show be
 teiligt sind. Die Tiere werden in geräumigen\, mobilen Boxen untergebrach
 t\, die speziell auf ihre Bedürfnisse abgestimmt sind. Während der Tour 
 sorgen erfahrene Tierärzte\, Pfleger und Reiter rund um die Uhr für ihr 
 Wohlbefinden. Neben regelmäßigen Gesundheitschecks und individuell abges
 timmten Futterplänen wird auch darauf geachtet\, dass die Pferde während
  der Show nur kurzzeitig eingesetzt werden\, um Überlastung zu vermeiden.
 \n\nDas Training der Pferde basiert auf positiver Verstärkung und einem v
 ertrauensvollen Umgang. Gewalt oder Zwangsmethoden haben bei CAVALLUNA kei
 nen Platz.\n\nDiese Philosophie zeigt sich auch auf der Bühne: Die Pferde
  wirken entspannt und motiviert\, was auf die enge Bindung zwischen Reiter
 n und Tieren hinweist. Wer einen Blick hinter die Kulissen werfen möchte\
 , kann bei den angebotenen Backstage-Touren mehr über den Umgang mit den 
 Tieren und die Arbeit des Teams erfahren.\nEin Erlebnis für jede Zielgrup
 pe\nDie Show richtet sich an ein breites Publikum: Familien\, Pferdeliebha
 ber und Kulturinteressierte finden hier gleichermaßen Unterhaltung. Währ
 end Reitsportfans die präzise Ausführung der Kunststücke zu schätzen w
 issen\, genießen andere die beeindruckende visuelle Inszenierung und die 
 stimmungsvolle Erzählung. Besonders spannend ist die Mischung aus spektak
 ulären Szenen\, bei denen das Adrenalin steigt\, und ruhigen Momenten\, d
 ie zum Nachdenken anregen. Ob als Familienausflug\, romantischer Abend ode
 r kulturelle Inspiration – Grand Moments bietet für jeden etwas. Es ist
  eine Show\, die sich nicht auf spektakuläre Effekte allein verlässt\, s
 ondern auf die Verbindung von Mensch und Tier setzt und dadurch eine beson
 dere Authentizität bewahrt.\nTermine\, Tickets und weitere Informationen\
 nCAVALLUNA - Grand Moments ist bis Juni 2025 in Städten wie Berlin\, Hamb
 urg\, München und weiteren Orten in Deutschland und Europa zu sehen. Wer 
 die Show erleben möchte\, kann Informationen zu Terminen und Veranstaltun
 gsorten auf der offiziellen CAVALLUNA-Website finden.\nTICKETS GIBT ES HIE
 R! \nTIPP: Es lohnt sich\, frühzeitig zu buchen\, da viele Termine bereit
 s jetzt stark nachgefragt sind.
ATTACH;FMTTYPE=image/jpeg:https://berlin030.de/wp-content/uploads/2024/12/
 Durch_Mut_befluegelt-scaled.jpg
CATEGORIES:Kultur
LOCATION:Uber Arena\, Uber Platz 1\, Berlin\, 10243\, Deutschland
X-APPLE-STRUCTURED-LOCATION;VALUE=URI;X-ADDRESS=Uber Platz 1\, Berlin\, 102
 43\, Deutschland;X-APPLE-RADIUS=100;X-TITLE=Uber Arena:geo:0,0
END:VEVENT
BEGIN:VTIMEZONE
TZID:Europe/Berlin
X-LIC-LOCATION:Europe/Berlin
BEGIN:STANDARD
DTSTART:20241027T020000
TZOFFSETFROM:+0200
TZOFFSETTO:+0100
TZNAME:CET
END:STANDARD
END:VTIMEZONE
END:VCALENDAR