BEGIN:VCALENDAR
VERSION:2.0
PRODID:-//wp-events-plugin.com//7.2.3.1//EN
TZID:Europe/Berlin
X-WR-TIMEZONE:Europe/Berlin
BEGIN:VEVENT
UID:165@berlin030.de
DTSTART;TZID=Europe/Berlin:20250510T180000
DTEND;TZID=Europe/Berlin:20250510T234500
DTSTAMP:20250503T072157Z
URL:https://berlin030.de/events/black-beat-night-tanzstelle/
SUMMARY:Black Beat Night Tanzstelle
DESCRIPTION:Die legendären Discoclubs in West-Berlin "Shalamar"\, La Belle
 \, Silver Shadow und Top Disco. Multikultureller Treffpunkt junger Berline
 r und Afro-Amerikanischer US-Soldaten.\nTanzwart DJ Baade belebt diesen So
 und von damals nun wieder.\nFunk\, R'n'B\, New Jack Swing und Hip-Hop aus 
 der Dekade 1985 - 1995\nDiese Party schließt nahtlos an die Funky Explosi
 on AFN Disco Party an.\nViel Spaß wünscht DJ Baade \nJazzclub LociLoft O
 raniendamm 72\, 13469 Berlin
CATEGORIES:Partys
LOCATION:West Germany\, Skalitzer Straße 133\, Berlin\, 10999\, Deutschlan
 d
X-APPLE-STRUCTURED-LOCATION;VALUE=URI;X-ADDRESS=Skalitzer Straße 133\, Ber
 lin\, 10999\, Deutschland;X-APPLE-RADIUS=100;X-TITLE=West Germany:geo:0,0
END:VEVENT
BEGIN:VTIMEZONE
TZID:Europe/Berlin
X-LIC-LOCATION:Europe/Berlin
BEGIN:DAYLIGHT
DTSTART:20250330T030000
TZOFFSETFROM:+0100
TZOFFSETTO:+0200
TZNAME:CEST
END:DAYLIGHT
END:VTIMEZONE
END:VCALENDAR