BEGIN:VCALENDAR
VERSION:2.0
PRODID:-//wp-events-plugin.com//7.2.3.1//EN
TZID:Europe/Berlin
X-WR-TIMEZONE:Europe/Berlin
BEGIN:VEVENT
UID:114@berlin030.de
DTSTART;TZID=Europe/Berlin:20250211T200000
DTEND;TZID=Europe/Berlin:20250211T200000
DTSTAMP:20241220T112009Z
URL:https://berlin030.de/events/arc-de-soleil-klangwelten-voller-nostalgie
 -und-frische/
SUMMARY:ARC DE SOLEIL: Klangwelten voller Nostalgie und Frische
DESCRIPTION:Am 11. Februar 2025 präsentiert Arc De Soleil\, das musikalisc
 he Alter Ego von Daniel Kadawatha\, ein Konzert voller warmherziger Melodi
 en und pulsierender Grooves. Seine einzigartige Mischung aus Vintage-Sound
 \, Funk-Rhythmen und modernen Einflüssen hat ihm bereits eine treue Fange
 meinde eingebracht. Die Musik\, die sich von Bands wie The Shadows und Khr
 uangbin inspiriert zeigt\, ist sowohl nostalgisch als auch frisch und spri
 cht ein Publikum an\, das starke Melodien und emotionale Tiefe schätzt. K
 adawatha versteht es\, verschiedene musikalische Stile miteinander zu verw
 eben und dabei eine Atmosphäre zu schaffen\, die das Publikum fesselt. Se
 in Einsatz von Saiteninstrumenten wie Gitarre und Sitar sorgt für eine kl
 angliche Vielfalt\, die seinesgleichen sucht. Mit der „La Mirage Tour 20
 25“ zeigt Arc De Soleil\, dass seine Musik nicht nur für das Zuhören\,
  sondern auch für das Fühlen gemacht ist. Kritiker heben besonders seine
  Fähigkeit hervor\, durch seine Live-Auftritte eine intime Verbindung mit
  dem Publikum herzustellen\, die noch lange nach dem Konzert nachhallt.\nT
 ickets und Spielzeiten!
CATEGORIES:Kultur,Theater
LOCATION:Heimathafen Neukölln\, Karl-Marx-Str. 141\, Berlin\, 12043\, Deut
 schland
X-APPLE-STRUCTURED-LOCATION;VALUE=URI;X-ADDRESS=Karl-Marx-Str. 141\, Berlin
 \, 12043\, Deutschland;X-APPLE-RADIUS=100;X-TITLE=Heimathafen Neukölln:ge
 o:0,0
END:VEVENT
BEGIN:VTIMEZONE
TZID:Europe/Berlin
X-LIC-LOCATION:Europe/Berlin
BEGIN:STANDARD
DTSTART:20241027T020000
TZOFFSETFROM:+0200
TZOFFSETTO:+0100
TZNAME:CET
END:STANDARD
END:VTIMEZONE
END:VCALENDAR