BEGIN:VCALENDAR
VERSION:2.0
PRODID:-//wp-events-plugin.com//7.2.3.1//EN
TZID:Europe/Berlin
X-WR-TIMEZONE:Europe/Berlin
BEGIN:VEVENT
UID:168@berlin030.de
DTSTART;TZID=Europe/Berlin:20250625T114500
DTEND;TZID=Europe/Berlin:20250625T134500
DTSTAMP:20250620T092742Z
URL:https://berlin030.de/events/an-die-wand-theaterprojekt/
SUMMARY:AN DIE WAND Theaterprojekt
DESCRIPTION:https://andiewand.kungerkiez.de/
CATEGORIES:Theater
LOCATION:Verschiedene Locations\, Berlin\, Berlin\, Deutschland
X-APPLE-STRUCTURED-LOCATION;VALUE=URI;X-ADDRESS=Berlin\, Berlin\, Deutschla
 nd;X-APPLE-RADIUS=100;X-TITLE=Verschiedene Locations:geo:0,0
END:VEVENT
BEGIN:VTIMEZONE
TZID:Europe/Berlin
X-LIC-LOCATION:Europe/Berlin
BEGIN:DAYLIGHT
DTSTART:20250330T030000
TZOFFSETFROM:+0100
TZOFFSETTO:+0200
TZNAME:CEST
END:DAYLIGHT
END:VTIMEZONE
END:VCALENDAR