BEGIN:VCALENDAR
VERSION:2.0
PRODID:-//wp-events-plugin.com//7.2.3.1//EN
TZID:Europe/Berlin
X-WR-TIMEZONE:Europe/Berlin
BEGIN:VEVENT
UID:118@berlin030.de
DTSTART;TZID=Europe/Berlin:20250110T200000
DTEND;TZID=Europe/Berlin:20250110T200000
DTSTAMP:20250109T121806Z
URL:https://berlin030.de/events/%f0%9f%8e%b8-problem-is-you-punk-hardcore-
 mit-innocent-bliss-total-fraud/
SUMMARY:🎸 Problem Is You – Punk & Hardcore mit Innocent Bliss\, Total 
 Fraud
DESCRIPTION:Am 10. Januar 2025 gibt es im K19 ein ganz besonderes Punk- und
  Hardcore-Konzert. Unter dem Titel „Problem Is You“ werden die beiden 
 Bands INNOCENT BLISS und TOTAL FRAUD ihre Shows abfeuern. Der Abend steht 
 ganz im Zeichen von DIY-Spirit und gesellschaftskritischer Musik\, die per
 fekt in die schwindende Berliner Subkultur passt.\n🔥 INNOCENT BLISS: Po
 litischer Hardcore mit Haltung\nINNOCENT BLISS ist eine Hardcore-Punk-Band
  aus Berlin\, die sich durch ihre rohe Energie und DIY-Ethik in der Szene 
 etabliert hat. Die Band besteht aus Matze\, Judith\, Bolle\, Arndt &amp\; 
 Jobst. Musiker\, die zuvor in Gruppen wie Highscore\, Peace Of Mind und M
 önster aktiv waren. Im März 2023 veröffentlichte INNOCENT BLISS ihr sel
 bstbetiteltes Debütalbum “2023” als Kassette in limitierter Auflage. 
 Das Album enthält neun Tracks\, darunter “The End”\, “Dissolution
 ” und “For The Kids”. Ihre limitierte Musikalisch kombiniert die Ban
 d klassischen Hardcore mit Einflüssen aus Punk und Post-Hardcore. Ihre Te
 xte thematisieren soziale und persönliche Themen\, wobei ein positiver An
 satz im Vordergrund steht. Obwohl INNOCENT BLISS noch keine überbordende 
 Bekanntheit erlangt hat\, genießt die Band in der deutschen Hardcore-Szen
 e Anerkennung. Fans von Bands wie Unity\, Black Flag und Poison Idea werde
 n an INNOCENT BLISS Gefallen finden.\n🤘 TOTAL FRAUD: Schneller\, härte
 r\, lauter\nTOTAL FRAUD ergänzen den Abend mit ihrer kompromisslosen Misc
 hung aus Hardcore und Punk. Die Berliner Band ist bekannt für ihre extrem
  schnellen\, aggressiven Songs und ihre chaotischen Liveshows. Ihr Motto: 
 „No stage is too small“ – die Band liebt es\, in kleinen Clubs aufzu
 treten\, wo die Energie direkt auf das Publikum überspringt. Ihr letztes 
 Album „Fraudulent Times“ erschien 2023 und enthält zehn kurze\, explo
 sive Tracks\, die allesamt unter zwei Minuten lang sind. Mit Songs wie „
 Payback Day“ und „No Authority“ sprechen sie Themen wie Korruption\,
  Machtmissbrauch und soziale Ungerechtigkeit an. Ihre Konzerte sind geprä
 gt von intensiven Moshpits und einer rohen\, ungefilterten Energie.
ATTACH;FMTTYPE=image/jpeg:https://berlin030.de/wp-content/uploads/2025/01/
 Innocent-Bliss.jpg
CATEGORIES:Konzerte
LOCATION:K19\, Kreuzigerstraße 19\, Berlin\, 10247\, Deutschland
X-APPLE-STRUCTURED-LOCATION;VALUE=URI;X-ADDRESS=Kreuzigerstraße 19\, Berli
 n\, 10247\, Deutschland;X-APPLE-RADIUS=100;X-TITLE=K19:geo:0,0
END:VEVENT
BEGIN:VTIMEZONE
TZID:Europe/Berlin
X-LIC-LOCATION:Europe/Berlin
BEGIN:STANDARD
DTSTART:20241027T020000
TZOFFSETFROM:+0200
TZOFFSETTO:+0100
TZNAME:CET
END:STANDARD
END:VTIMEZONE
END:VCALENDAR