BEGIN:VCALENDAR
VERSION:2.0
PRODID:-//wp-events-plugin.com//7.2.3.1//EN
TZID:Europe/Berlin
X-WR-TIMEZONE:Europe/Berlin
BEGIN:VEVENT
UID:117@berlin030.de
DTSTART;TZID=Europe/Berlin:20250110T210000
DTEND;TZID=Europe/Berlin:20250110T210000
DTSTAMP:20250109T120432Z
URL:https://berlin030.de/events/%f0%9f%8e%b6-hyper-berlin-x-fog-juice-pres
 ents-hyper-fog-mit-caro%e2%99%a1/
SUMMARY:🎶 Hyper Berlin x Fog Juice presents: HYPER FOG mit caro♡
DESCRIPTION:Die HYPER BERLIN x FOG JUICE Eventreihe verspricht ein immersiv
 es Erlebnis in die Welt der experimentellen elektronischen Musik mit spann
 enden Live-Acts wie Akiï\, bby bell\, DVDV\, lokik\, Marylou und t0Ni. Au
 ßerdem ist die Französin Caroline Beatrix Christine Maurin aka caro♡ (
 ausgesprochen „Caro Heart“) am Start. Sie hat sich in den letzten Jahr
 en als vielversprechende Künstlerin in der elektronischen Musikszene etab
 liert. Ursprünglich in Frankreich geboren\, lebt und arbeitet sie mittler
 weile in London. Ihre musikalische Reise begann sie als DIY-Künstlerin\, 
 indem sie erste Tracks über SoundCloud veröffentlichte und schnell Aufme
 rksamkeit für ihren unkonventionellen Stil erhielt. caro♡ steht für ei
 ne einzigartige Mischung aus futuristischem Pop\, träumerischen Melodien 
 und experimentellen Club-Beats. Dabei bewegt sich ihre Musik zwischen hype
 r-emotionalen Soundlandschaften und tanzbaren Tracks\, die sowohl introspe
 ktiv als auch energiegeladen sind. Der große Durchbruch kam mit ihrer Zus
 ammenarbeit mit dem renommierten Label PC Music\, das für seinen experime
 ntellen\, oft überdrehten Pop-Sound bekannt ist. Dieses Label hat bereits
  Künstler wie Hannah Diamond\, Danny L Harle und A. G. Cook groß gemacht
  – und nun auch caro♡.\n🎧 Weitere Acts des Abends\nNeben caro♡ st
 ehen auch andere aufstrebende Künstler der Berliner Clubszene auf der Bü
 hne. Besonders hervorzuheben ist Akiï\, ein Produzent\, der für seine ex
 perimentellen Sets bekannt ist und Genres wie Ambient\, Breakbeat und Tech
 no miteinander verbindet. Auch bby bell wird erwartet – eine DJ und Prod
 uzentin\, die sich durch ihre eklektischen Sets\, die von UK Garage bis hi
 n zu Industrial reichen\, einen Namen gemacht hat. Der Abend verspricht ei
 ne vielfältige Reise durch die unterschiedlichsten Stile der elektronisch
 en Musik\, die vor allem Liebhaber von Nischenmusik und experimentellen So
 unds ansprechen dürfte.\nTickets:\nPreise starten bei 12 EUR im Vorverkau
 f.\n 
ATTACH;FMTTYPE=image/jpeg:https://berlin030.de/wp-content/uploads/2025/01/
 Caro.jpg
CATEGORIES:Konzerte
LOCATION:West Germany\, Skalitzer Straße 133\, Berlin\, 10999\, Deutschlan
 d
X-APPLE-STRUCTURED-LOCATION;VALUE=URI;X-ADDRESS=Skalitzer Straße 133\, Ber
 lin\, 10999\, Deutschland;X-APPLE-RADIUS=100;X-TITLE=West Germany:geo:0,0
END:VEVENT
BEGIN:VTIMEZONE
TZID:Europe/Berlin
X-LIC-LOCATION:Europe/Berlin
BEGIN:STANDARD
DTSTART:20241027T020000
TZOFFSETFROM:+0200
TZOFFSETTO:+0100
TZNAME:CET
END:STANDARD
END:VTIMEZONE
END:VCALENDAR